BEGIN:VCALENDAR
VERSION:2.0
PRODID:-//Laboratorio di Frontiera - ECPv6.2.8.2//NONSGML v1.0//EN
CALSCALE:GREGORIAN
METHOD:PUBLISH
X-WR-CALNAME:Laboratorio di Frontiera
X-ORIGINAL-URL:https://laboratoriodifrontiera.it
X-WR-CALDESC:Eventi per Laboratorio di Frontiera
REFRESH-INTERVAL;VALUE=DURATION:PT1H
X-Robots-Tag:noindex
X-PUBLISHED-TTL:PT1H
BEGIN:VTIMEZONE
TZID:Europe/Rome
BEGIN:DAYLIGHT
TZOFFSETFROM:+0100
TZOFFSETTO:+0200
TZNAME:CEST
DTSTART:20230326T010000
END:DAYLIGHT
BEGIN:STANDARD
TZOFFSETFROM:+0200
TZOFFSETTO:+0100
TZNAME:CET
DTSTART:20231029T010000
END:STANDARD
BEGIN:DAYLIGHT
TZOFFSETFROM:+0100
TZOFFSETTO:+0200
TZNAME:CEST
DTSTART:20240331T010000
END:DAYLIGHT
BEGIN:STANDARD
TZOFFSETFROM:+0200
TZOFFSETTO:+0100
TZNAME:CET
DTSTART:20241027T010000
END:STANDARD
END:VTIMEZONE
BEGIN:VEVENT
DTSTART;VALUE=DATE:20231210
DTEND;VALUE=DATE:20231211
DTSTAMP:20260423T000936
CREATED:20240112T102511Z
LAST-MODIFIED:20240112T102511Z
UID:690-1702166400-1702252799@laboratoriodifrontiera.it
SUMMARY:Banchetto espositivo
DESCRIPTION:Un banchetto espositivo dei prodotti realizzati dalla nostra associazione. Un’occasione per sostenerci acquistando le nostre realizzazioni.
URL:https://laboratoriodifrontiera.it/evento/banchetto-espositivo/
LOCATION:Città delle Stelle\, Viale dei Mutilati del Lavoro\, 106\, Ascoli Piceno\, 63100\, Italia
CATEGORIES:Banchetto Espositivo
ATTACH;FMTTYPE=image/jpeg:https://laboratoriodifrontiera.it/wp-content/uploads/2024/01/citta-delle-stelle.jpg
END:VEVENT
BEGIN:VEVENT
DTSTART;VALUE=DATE:20231213
DTEND;VALUE=DATE:20231214
DTSTAMP:20260423T000936
CREATED:20240112T102953Z
LAST-MODIFIED:20240112T102953Z
UID:694-1702425600-1702511999@laboratoriodifrontiera.it
SUMMARY:Mercatino di Santa Lucia
DESCRIPTION:Uno speciale mercato ambulante in programma dalle ore 8 alle 22. In tutto il centro cittadino\, nella zona normalmente occupata dal mercato del martedì e venerdì\, saranno presenti 274 espositori. \nL’area interessata è quella di piazza San Giovanni Battista\, piazza Garibaldi\, via Montebello\, viale Secondo Moretti\, viale Buozzi\, via Milanesi. Esporranno artigiani\, produttori alimentari\, espositori\, associazioni no profit\, commercianti ambulanti in genere. In occasione della fiera\, i commercianti in sede fissa nell’area interessata hanno facoltà di derogare al limite massimo delle tredici ore di apertura giornaliera\, potendo restare aperti fino all’orario di chiusura della manifestazione.
URL:https://laboratoriodifrontiera.it/evento/mercatino-di-santa-lucia/
LOCATION:Mercatino Santa lucia\, vial Buozzi\, San Benedetto del Tronto\, 63074\, Italia
CATEGORIES:Mercatino
ATTACH;FMTTYPE=image/jpeg:https://laboratoriodifrontiera.it/wp-content/uploads/2024/01/santalucia.jpg
END:VEVENT
BEGIN:VEVENT
DTSTART;VALUE=DATE:20231219
DTEND;VALUE=DATE:20231220
DTSTAMP:20260423T000936
CREATED:20240112T103303Z
LAST-MODIFIED:20240112T103303Z
UID:698-1702944000-1703030399@laboratoriodifrontiera.it
SUMMARY:Banchetto espositivo
DESCRIPTION:Banchetto espositivo presso Vinile di San Benedetto del Tronto\, una buona occasione per conoscere e sostenere la nostra associazione.
URL:https://laboratoriodifrontiera.it/evento/banchetto-espositivo-2/
LOCATION:Viniles\, Viale Trieste\, 9\, San Benedetto del Tronto\, 63074\, Italia
CATEGORIES:Banchetto Espositivo
ATTACH;FMTTYPE=image/png:https://laboratoriodifrontiera.it/wp-content/uploads/2024/01/viniles.png
END:VEVENT
BEGIN:VEVENT
DTSTART;VALUE=DATE:20240203
DTEND;VALUE=DATE:20240205
DTSTAMP:20260423T000936
CREATED:20240112T142750Z
LAST-MODIFIED:20240112T142750Z
UID:728-1706918400-1707091199@laboratoriodifrontiera.it
SUMMARY:Banchetti Espositivi
DESCRIPTION:Vieni a trovarci presso il centro commerciale “Città delle Stelle” ad Ascoli Piceno o a San Benedetto del Tronto presso il centro commerciale “Portogrande”. \nPotrai conosce la nostra associazione\, le attività che svolgiamo e acquistando i nostri prodotti potrai sostenere i nostri progetti.
URL:https://laboratoriodifrontiera.it/evento/banchetti-espositivi/
LOCATION:Città delle Stelle\, Viale dei Mutilati del Lavoro\, 106\, Ascoli Piceno\, 63100\, Italia
CATEGORIES:Banchetto Espositivo
ATTACH;FMTTYPE=image/jpeg:https://laboratoriodifrontiera.it/wp-content/uploads/2023/11/laboratoriodifrontierA-home-2.jpg
END:VEVENT
BEGIN:VEVENT
DTSTART;VALUE=DATE:20240316
DTEND;VALUE=DATE:20240317
DTSTAMP:20260423T000936
CREATED:20240302T092918Z
LAST-MODIFIED:20240302T094507Z
UID:859-1710547200-1710633599@laboratoriodifrontiera.it
SUMMARY:Presentazione Libro
DESCRIPTION:Il giorno 16 Marzo 2024\, presso la Sala Cola D’amatrice\, ad Ascoli Piceno\, insieme all’autrice\, sarà presentato il libro “Che impresa la mia vita” di Sandra Gouveia.
URL:https://laboratoriodifrontiera.it/evento/presentazione-libro/
LOCATION:Sala Cola d’Amatrice\, Via del Trivio\, 59\, Ascoli Piceno\, 63100\, Italia
CATEGORIES:eventi
ATTACH;FMTTYPE=image/jpeg:https://laboratoriodifrontiera.it/wp-content/uploads/2024/03/ascoli-piceno.jpg
END:VEVENT
BEGIN:VEVENT
DTSTART;TZID=Europe/Rome:20240427T150000
DTEND;TZID=Europe/Rome:20240428T210000
DTSTAMP:20260423T000936
CREATED:20240409T153145Z
LAST-MODIFIED:20240409T153537Z
UID:902-1714230000-1714338000@laboratoriodifrontiera.it
SUMMARY:Gnè Festival - Massignano (AP)
DESCRIPTION:
URL:https://laboratoriodifrontiera.it/evento/gne-festival-massignano-ap/
LOCATION:MAssignano\, Massignano\, 63061\, Italia
ATTACH;FMTTYPE=image/jpeg:https://laboratoriodifrontiera.it/wp-content/uploads/2024/04/Gne-Festival.jpg
END:VEVENT
BEGIN:VEVENT
DTSTART;TZID=Europe/Rome:20240427T170000
DTEND;TZID=Europe/Rome:20240427T200000
DTSTAMP:20260423T000936
CREATED:20240302T093713Z
LAST-MODIFIED:20240302T093751Z
UID:866-1714237200-1714248000@laboratoriodifrontiera.it
SUMMARY:Banchetto Espositivo
DESCRIPTION:Il giorno 27 aprile 2024\, dalle ore 17\, e il 28 aprile 2024 dalle ore 10.30\, saremo presenti\, con un banchetto espositivo\, al Gnè – Festival di arti\, memoria e stupore Massignano (AP).
URL:https://laboratoriodifrontiera.it/evento/banchetto-espositivo-3/
LOCATION:MAssignano\, Massignano\, 63061\, Italia
CATEGORIES:Banchetto Espositivo
ATTACH;FMTTYPE=image/jpeg:https://laboratoriodifrontiera.it/wp-content/uploads/2024/03/massignano.jpg
END:VEVENT
END:VCALENDAR